BEGIN:VCALENDAR
VERSION:2.0
PRODID:-//eventon.com NONSGML v1.0//EN
CALSCALE:GREGORIAN
METHOD:PUBLISH
BEGIN:VEVENT
UID:69e4d9cab94e9
DTSTAMP:20260419T133402Z
DTSTART:20260504T140000Z
DTEND:20260504T215900Z
LOCATION:
SUMMARY:Elke maandag horeca-avond
DESCRIPTION:Moet jij elk weekend werken en heb je bijvoorbeeld op maandag e
 n dinsdag je weekend. Kom dan gezellig op maandagavond een drankje doen in 
 Café Queers. Gezelligheid met veel gelijk gestemden!\nhttps://www.queers.n
 l/events/elke-maandag-horeca-avond/var/ri-5.l-L1
URL:https://www.queers.nl/events/elke-maandag-horeca-avond/var/ri-5.l-L1
END:VEVENT
END:VCALENDAR