BEGIN:VCALENDAR
VERSION:2.0
PRODID:-//eventon.com NONSGML v1.0//EN
CALSCALE:GREGORIAN
METHOD:PUBLISH
BEGIN:VEVENT
UID:69e4da039c7eb
DTSTAMP:20260419T133459Z
DTSTART:20260316T150000Z
DTEND:20260316T225900Z
LOCATION:
SUMMARY:Elke maandag horeca-avond
DESCRIPTION:Moet jij elk weekend werken en heb je bijvoorbeeld op maandag e
 n dinsdag je weekend. Kom dan gezellig op maandagavond een drankje doen in 
 Café Queers. Gezelligheid met veel gelijk gestemden!\nhttps://www.queers.n
 l/events/elke-maandag-horeca-avond/
URL:https://www.queers.nl/events/elke-maandag-horeca-avond/
END:VEVENT
END:VCALENDAR